BEGIN:VCALENDAR
VERSION:2.0
PRODID:-//Greater Miramichi Service Commission - ECPv6.15.20//NONSGML v1.0//EN
CALSCALE:GREGORIAN
METHOD:PUBLISH
X-WR-CALNAME:Greater Miramichi Service Commission
X-ORIGINAL-URL:https://greatermiramichisc.ca
X-WR-CALDESC:Events for Greater Miramichi Service Commission
REFRESH-INTERVAL;VALUE=DURATION:PT1H
X-Robots-Tag:noindex
X-PUBLISHED-TTL:PT1H
BEGIN:VTIMEZONE
TZID:UTC
BEGIN:STANDARD
TZOFFSETFROM:+0000
TZOFFSETTO:+0000
TZNAME:UTC
DTSTART:20250101T000000
END:STANDARD
END:VTIMEZONE
BEGIN:VEVENT
DTSTART;TZID=UTC:20260421T100000
DTEND;TZID=UTC:20260421T120000
DTSTAMP:20260421T020132
CREATED:20260420T102753Z
LAST-MODIFIED:20260420T102753Z
UID:10001190-1776765600-1776772800@greatermiramichisc.ca
SUMMARY:City PRAC Meeting
DESCRIPTION:Join us for our City PRAC meeting.\nFind all the meeting materials here: https://greatermiramichisc.ca/development/prac/\nJoin online here: https://teams.microsoft.com/meet/21839413242740?p=1HnCHCtZFp91RgSwjg
URL:https://greatermiramichisc.ca/event/city-prac-meeting-2/
LOCATION:GMSC Board Room\, Miramichi\, Canada\, New Brunswick\, E1N 1B2\, Canada
CATEGORIES:GMSC
END:VEVENT
END:VCALENDAR