BEGIN:VCALENDAR
VERSION:2.0
PRODID:-//Greater Miramichi Service Commission - ECPv6.15.20//NONSGML v1.0//EN
CALSCALE:GREGORIAN
METHOD:PUBLISH
X-ORIGINAL-URL:https://greatermiramichisc.ca
X-WR-CALDESC:Events for Greater Miramichi Service Commission
REFRESH-INTERVAL;VALUE=DURATION:PT1H
X-Robots-Tag:noindex
X-PUBLISHED-TTL:PT1H
BEGIN:VTIMEZONE
TZID:UTC
BEGIN:STANDARD
TZOFFSETFROM:+0000
TZOFFSETTO:+0000
TZNAME:UTC
DTSTART:20250101T000000
END:STANDARD
END:VTIMEZONE
BEGIN:VEVENT
DTSTART;TZID=UTC:20260510T090000
DTEND;TZID=UTC:20260510T100000
DTSTAMP:20260419T142008
CREATED:20260127T142959Z
LAST-MODIFIED:20260127T143042Z
UID:10000319-1778403600-1778407200@greatermiramichisc.ca
SUMMARY:Family PLAY Program
DESCRIPTION:
URL:https://greatermiramichisc.ca/event/family-play-program/2026-05-10/
LOCATION:New Brunswick
CATEGORIES:Family,Recreation,Sport
END:VEVENT
BEGIN:VEVENT
DTSTART;TZID=UTC:20260510T110000
DTEND;TZID=UTC:20260510T150000
DTSTAMP:20260419T142008
CREATED:20260414T144130Z
LAST-MODIFIED:20260414T144130Z
UID:10000828-1778410800-1778425200@greatermiramichisc.ca
SUMMARY:Napan Spring Market
DESCRIPTION:Update:\n\n\nOur Inside Vendors are FULLY Booked as of noon today\, April 2nd.\n\n\nThere is Unlimited outside opportunities for vendors (including the lean too area).\n\n\nNapan Spring Market\n Sunday\, May 10\n 11:00 a.m. – 3:00 p.m.\n Napan Agricultural Show Grounds\n\n\nJoin us for our Spring Market!\n\n\nVendor Spaces:\n• Barn spaces: $25 per space\n• Outdoor spaces: Unlimited availability\n\n\n To reserve your table or space\, payment must be made in advance by April 27 via e-transfer to:\n napanagriculturalshowinc@gmail.com\n\n\n Please include the vendor’s name and contact number in the e-transfer comments.\n\n\nFor more information\, contact:\n Stacey Walsh on Messenger\n 506-251-9335\n\n\n@topfans
URL:https://greatermiramichisc.ca/event/napan-spring-market/
LOCATION:Napan Agricultural Show Grounds\, S Napan Rd\, Greater Miramichi Rural District\, New Brunswick\, E1N 4W2\, Canada
CATEGORIES:Community Events
END:VEVENT
END:VCALENDAR