BEGIN:VCALENDAR
VERSION:2.0
PRODID:-//Greater Miramichi Service Commission - ECPv6.15.20//NONSGML v1.0//EN
CALSCALE:GREGORIAN
METHOD:PUBLISH
X-ORIGINAL-URL:https://greatermiramichisc.ca
X-WR-CALDESC:Events for Greater Miramichi Service Commission
REFRESH-INTERVAL;VALUE=DURATION:PT1H
X-Robots-Tag:noindex
X-PUBLISHED-TTL:PT1H
BEGIN:VTIMEZONE
TZID:UTC
BEGIN:STANDARD
TZOFFSETFROM:+0000
TZOFFSETTO:+0000
TZNAME:UTC
DTSTART:20250101T000000
END:STANDARD
END:VTIMEZONE
BEGIN:VEVENT
DTSTART;TZID=UTC:20260514T083000
DTEND;TZID=UTC:20260514T123000
DTSTAMP:20260419T142005
CREATED:20260417T170354Z
LAST-MODIFIED:20260417T170354Z
UID:10001188-1778747400-1778761800@greatermiramichisc.ca
SUMMARY:Grant Writing Workshop
DESCRIPTION:Joignez‑vous à nous pour notre prochain atelier de subventions! Cette séance se déroulera principalement en français.\nLes places se remplissent RAPIDEMENT\, alors inscrivez‑vous dès aujourd’hui pour réserver votre place!\nhttps://www.eventbrite.com/…/atelier-sur-les-subvention…\n—-\nJoin us for out next Grant Lab\, this offering will be primarily in French.\nSpots fill up QUICK\, so sign up today to reserve your spot!\nhttps://www.eventbrite.com/…/atelier-sur-les-subvention…
URL:https://greatermiramichisc.ca/event/grant-writing-workshop/2026-05-14/
LOCATION:GMSC Board Room\, Miramichi\, Canada\, New Brunswick\, E1N 1B2\, Canada
END:VEVENT
BEGIN:VEVENT
DTSTART;TZID=UTC:20260514T220000
DTEND;TZID=UTC:20260515T010000
DTSTAMP:20260419T142005
CREATED:20260205T123352Z
LAST-MODIFIED:20260205T123352Z
UID:10000391-1778796000-1778806800@greatermiramichisc.ca
SUMMARY:Miramichi Folklore Park Thursday Night Kitchen Party
DESCRIPTION:Enjoy local music\, complimentary tea and coffee\, and a light lunch during intermission. Half and half tickets are sold for a chance to win cash. Donations are welcome at the door.
URL:https://greatermiramichisc.ca/event/miramichi-folklore-park-thursday-night-kitchen-party/2026-05-14/
LOCATION:Miramichi Folklore Park\, 46 Memory Lane\, Renous\, New Brunswick\, Canada
CATEGORIES:Community Events,Family,Music
END:VEVENT
BEGIN:VEVENT
DTSTART;TZID=UTC:20260514T220000
DTEND;TZID=UTC:20260515T010000
DTSTAMP:20260419T142005
CREATED:20260205T141917Z
LAST-MODIFIED:20260205T141917Z
UID:10000619-1778796000-1778806800@greatermiramichisc.ca
SUMMARY:Cribbage Quarryville
DESCRIPTION:Father Barry Council 7481 Knights of Columbus host Cribbage every Thursday at their hall in Quarryville. Registration begins at 7:00 pm. Please bring your own partner.
URL:https://greatermiramichisc.ca/event/cribbage-quarryville/2026-05-14/
LOCATION:Father Barry Council 7481 Knights of Columbus\, 3677 Route 108\, Quarryville\, New Brunswick\, Canada
CATEGORIES:Community Events
END:VEVENT
END:VCALENDAR