BEGIN:VCALENDAR
VERSION:2.0
PRODID:-//Greater Miramichi Service Commission - ECPv6.15.20//NONSGML v1.0//EN
CALSCALE:GREGORIAN
METHOD:PUBLISH
X-ORIGINAL-URL:https://greatermiramichisc.ca
X-WR-CALDESC:Events for Greater Miramichi Service Commission
REFRESH-INTERVAL;VALUE=DURATION:PT1H
X-Robots-Tag:noindex
X-PUBLISHED-TTL:PT1H
BEGIN:VTIMEZONE
TZID:UTC
BEGIN:STANDARD
TZOFFSETFROM:+0000
TZOFFSETTO:+0000
TZNAME:UTC
DTSTART:20250101T000000
END:STANDARD
END:VTIMEZONE
BEGIN:VEVENT
DTSTART;TZID=UTC:20260522T220000
DTEND;TZID=UTC:20260523T010000
DTSTAMP:20260419T124618
CREATED:20260205T142611Z
LAST-MODIFIED:20260205T142611Z
UID:10000641-1779487200-1779498000@greatermiramichisc.ca
SUMMARY:Victory Baptist Gospel Jam
DESCRIPTION:Victory Baptist Church welcomes you to their Gospel Jams every Friday evening from 7:00pm to 10:00pm. \nVictory Baptist Fellowship is located at 55 Route 420 in South Esk. Come and discover the power of gospel music while connecting with a welcoming community. \nEveryone is invited!
URL:https://greatermiramichisc.ca/event/victory-baptist-gospel-jam/2026-05-22/
LOCATION:Victorty Baptist Church\, 55 Route 420\, South Esk\, New Brunswick\, Canada
CATEGORIES:Music
END:VEVENT
BEGIN:VEVENT
DTSTART;TZID=UTC:20260523T080000
DTEND;TZID=UTC:20260523T120000
DTSTAMP:20260419T124618
CREATED:20260417T170709Z
LAST-MODIFIED:20260417T170709Z
UID:10001189-1779523200-1779537600@greatermiramichisc.ca
SUMMARY:Household Hazardous and E-Waste Collection Event
DESCRIPTION:Join us for a Household Hazardous and E-Waste Collection Event.\nHave questions what is eligible for pick up? Call 506-778-2278.
URL:https://greatermiramichisc.ca/event/household-hazardous-and-e-waste-collection-event-3/
LOCATION:St Mary’s Catholic Church\, 360 Newcastle Blvd\, Miramichi\, New Brunswick\, E1V 2J9\, Canada
CATEGORIES:Community Events
END:VEVENT
BEGIN:VEVENT
DTSTART;TZID=UTC:20260523T090000
DTEND;TZID=UTC:20260523T130000
DTSTAMP:20260419T124618
CREATED:20260414T144937Z
LAST-MODIFIED:20260414T144937Z
UID:10000834-1779526800-1779541200@greatermiramichisc.ca
SUMMARY:Water Street Farmer's Market - Miramichi
DESCRIPTION:Open every Saturday until the Saturday before Christmas & closed January & February. \nThe Water Street Farmers Market is a small-town farmers market located in the city of Miramichi\, and is characterized by its warmth and hospitality.
URL:https://greatermiramichisc.ca/event/water-street-farmers-market-miramichi/2026-05-23/
LOCATION:Water Street Farmers Market\, 1 Ellis St\, Miramichi\, New Brunswick\, Canada
CATEGORIES:Community Events,Family
END:VEVENT
END:VCALENDAR