BEGIN:VCALENDAR
VERSION:2.0
PRODID:-//Greater Miramichi Service Commission - ECPv6.15.20//NONSGML v1.0//EN
CALSCALE:GREGORIAN
METHOD:PUBLISH
X-WR-CALNAME:Greater Miramichi Service Commission
X-ORIGINAL-URL:https://greatermiramichisc.ca
X-WR-CALDESC:Events for Greater Miramichi Service Commission
REFRESH-INTERVAL;VALUE=DURATION:PT1H
X-Robots-Tag:noindex
X-PUBLISHED-TTL:PT1H
BEGIN:VTIMEZONE
TZID:UTC
BEGIN:STANDARD
TZOFFSETFROM:+0000
TZOFFSETTO:+0000
TZNAME:UTC
DTSTART:20250101T000000
END:STANDARD
END:VTIMEZONE
BEGIN:VEVENT
DTSTART;TZID=UTC:20260605T220000
DTEND;TZID=UTC:20260606T010000
DTSTAMP:20260420T011224
CREATED:20260205T142611Z
LAST-MODIFIED:20260205T142611Z
UID:10000643-1780696800-1780707600@greatermiramichisc.ca
SUMMARY:Victory Baptist Gospel Jam
DESCRIPTION:Victory Baptist Church welcomes you to their Gospel Jams every Friday evening from 7:00pm to 10:00pm. \nVictory Baptist Fellowship is located at 55 Route 420 in South Esk. Come and discover the power of gospel music while connecting with a welcoming community. \nEveryone is invited!
URL:https://greatermiramichisc.ca/event/victory-baptist-gospel-jam/2026-06-05/
LOCATION:Victorty Baptist Church\, 55 Route 420\, South Esk\, New Brunswick\, Canada
CATEGORIES:Music
END:VEVENT
BEGIN:VEVENT
DTSTART;TZID=UTC:20260606T090000
DTEND;TZID=UTC:20260606T130000
DTSTAMP:20260420T011224
CREATED:20260414T144937Z
LAST-MODIFIED:20260414T144937Z
UID:10000836-1780736400-1780750800@greatermiramichisc.ca
SUMMARY:Water Street Farmer's Market - Miramichi
DESCRIPTION:Open every Saturday until the Saturday before Christmas & closed January & February. \nThe Water Street Farmers Market is a small-town farmers market located in the city of Miramichi\, and is characterized by its warmth and hospitality.
URL:https://greatermiramichisc.ca/event/water-street-farmers-market-miramichi/2026-06-06/
LOCATION:Water Street Farmers Market\, 1 Ellis St\, Miramichi\, New Brunswick\, Canada
CATEGORIES:Community Events,Family
END:VEVENT
END:VCALENDAR