BEGIN:VCALENDAR
VERSION:2.0
PRODID:-//Greater Miramichi Service Commission - ECPv6.15.20//NONSGML v1.0//EN
CALSCALE:GREGORIAN
METHOD:PUBLISH
X-ORIGINAL-URL:https://greatermiramichisc.ca
X-WR-CALDESC:Events for Greater Miramichi Service Commission
REFRESH-INTERVAL;VALUE=DURATION:PT1H
X-Robots-Tag:noindex
X-PUBLISHED-TTL:PT1H
BEGIN:VTIMEZONE
TZID:UTC
BEGIN:STANDARD
TZOFFSETFROM:+0000
TZOFFSETTO:+0000
TZNAME:UTC
DTSTART:20260101T000000
END:STANDARD
END:VTIMEZONE
BEGIN:VEVENT
DTSTART;TZID=UTC:20270210T140000
DTEND;TZID=UTC:20270210T144500
DTSTAMP:20260423T021837
CREATED:20260310T144350Z
LAST-MODIFIED:20260310T144350Z
UID:10000784-1802268000-1802270700@greatermiramichisc.ca
SUMMARY:Songs & Rhymes Program - Blackville Community Centre
DESCRIPTION:Songs and Rhymes\, a free program for parents/caregivers and children ages birth to 16 months\, begins Wednesday\, March 18 in Blackville. \nThis 8 week program will be held every Wednesday from 10:00am until 10:45am at the Blackville Community Centre\, 12 South Bartholomew Road until May 6. \nShare the pleasure and power of using rhymes\, songs and stories while helping grow your child’s language and literacy skills. \nTo register\, call 1-888-623-6363 (toll free)\, email asdn.talkwithme@nbed.nb.ca or message via Facebook at Talk With Me-Anglophone North.
URL:https://greatermiramichisc.ca/event/songs-rhymes-program-blackville-community-centre/2027-02-10/
LOCATION:Blackville Community Centre\, 12 South Bartholomew Rd\, Blackville\, New Brunswick\, Canada
CATEGORIES:Family
END:VEVENT
END:VCALENDAR