BEGIN:VCALENDAR
VERSION:2.0
PRODID:-//Greater Miramichi Service Commission - ECPv6.15.20//NONSGML v1.0//EN
CALSCALE:GREGORIAN
METHOD:PUBLISH
X-ORIGINAL-URL:https://greatermiramichisc.ca
X-WR-CALDESC:Events for Greater Miramichi Service Commission
REFRESH-INTERVAL;VALUE=DURATION:PT1H
X-Robots-Tag:noindex
X-PUBLISHED-TTL:PT1H
BEGIN:VTIMEZONE
TZID:UTC
BEGIN:STANDARD
TZOFFSETFROM:+0000
TZOFFSETTO:+0000
TZNAME:UTC
DTSTART:20260101T000000
END:STANDARD
END:VTIMEZONE
BEGIN:VEVENT
DTSTART;TZID=UTC:20270324T130000
DTEND;TZID=UTC:20270324T134500
DTSTAMP:20260419T164326
CREATED:20260310T144350Z
LAST-MODIFIED:20260310T144350Z
UID:10000790-1805893200-1805895900@greatermiramichisc.ca
SUMMARY:Songs & Rhymes Program - Blackville Community Centre
DESCRIPTION:Songs and Rhymes\, a free program for parents/caregivers and children ages birth to 16 months\, begins Wednesday\, March 18 in Blackville. \nThis 8 week program will be held every Wednesday from 10:00am until 10:45am at the Blackville Community Centre\, 12 South Bartholomew Road until May 6. \nShare the pleasure and power of using rhymes\, songs and stories while helping grow your child’s language and literacy skills. \nTo register\, call 1-888-623-6363 (toll free)\, email asdn.talkwithme@nbed.nb.ca or message via Facebook at Talk With Me-Anglophone North.
URL:https://greatermiramichisc.ca/event/songs-rhymes-program-blackville-community-centre/2027-03-24/
LOCATION:Blackville Community Centre\, 12 South Bartholomew Rd\, Blackville\, New Brunswick\, Canada
CATEGORIES:Family
END:VEVENT
BEGIN:VEVENT
DTSTART;TZID=UTC:20270325T220000
DTEND;TZID=UTC:20270326T010000
DTSTAMP:20260419T164326
CREATED:20260205T123352Z
LAST-MODIFIED:20260205T123352Z
UID:10000436-1806012000-1806022800@greatermiramichisc.ca
SUMMARY:Miramichi Folklore Park Thursday Night Kitchen Party
DESCRIPTION:Enjoy local music\, complimentary tea and coffee\, and a light lunch during intermission. Half and half tickets are sold for a chance to win cash. Donations are welcome at the door.
URL:https://greatermiramichisc.ca/event/miramichi-folklore-park-thursday-night-kitchen-party/2027-03-25/
LOCATION:Miramichi Folklore Park\, 46 Memory Lane\, Renous\, New Brunswick\, Canada
CATEGORIES:Community Events,Family,Music
END:VEVENT
BEGIN:VEVENT
DTSTART;TZID=UTC:20270327T090000
DTEND;TZID=UTC:20270327T130000
DTSTAMP:20260419T164326
CREATED:20260414T144937Z
LAST-MODIFIED:20260414T144937Z
UID:10000878-1806138000-1806152400@greatermiramichisc.ca
SUMMARY:Water Street Farmer's Market - Miramichi
DESCRIPTION:Open every Saturday until the Saturday before Christmas & closed January & February. \nThe Water Street Farmers Market is a small-town farmers market located in the city of Miramichi\, and is characterized by its warmth and hospitality.
URL:https://greatermiramichisc.ca/event/water-street-farmers-market-miramichi/2027-03-27/
LOCATION:Water Street Farmers Market\, 1 Ellis St\, Miramichi\, New Brunswick\, Canada
CATEGORIES:Community Events,Family
END:VEVENT
BEGIN:VEVENT
DTSTART;TZID=UTC:20270331T130000
DTEND;TZID=UTC:20270331T134500
DTSTAMP:20260419T164326
CREATED:20260310T144350Z
LAST-MODIFIED:20260310T144350Z
UID:10000791-1806498000-1806500700@greatermiramichisc.ca
SUMMARY:Songs & Rhymes Program - Blackville Community Centre
DESCRIPTION:Songs and Rhymes\, a free program for parents/caregivers and children ages birth to 16 months\, begins Wednesday\, March 18 in Blackville. \nThis 8 week program will be held every Wednesday from 10:00am until 10:45am at the Blackville Community Centre\, 12 South Bartholomew Road until May 6. \nShare the pleasure and power of using rhymes\, songs and stories while helping grow your child’s language and literacy skills. \nTo register\, call 1-888-623-6363 (toll free)\, email asdn.talkwithme@nbed.nb.ca or message via Facebook at Talk With Me-Anglophone North.
URL:https://greatermiramichisc.ca/event/songs-rhymes-program-blackville-community-centre/2027-03-31/
LOCATION:Blackville Community Centre\, 12 South Bartholomew Rd\, Blackville\, New Brunswick\, Canada
CATEGORIES:Family
END:VEVENT
BEGIN:VEVENT
DTSTART;TZID=UTC:20270401T220000
DTEND;TZID=UTC:20270402T010000
DTSTAMP:20260419T164326
CREATED:20260205T123352Z
LAST-MODIFIED:20260205T123352Z
UID:10000437-1806616800-1806627600@greatermiramichisc.ca
SUMMARY:Miramichi Folklore Park Thursday Night Kitchen Party
DESCRIPTION:Enjoy local music\, complimentary tea and coffee\, and a light lunch during intermission. Half and half tickets are sold for a chance to win cash. Donations are welcome at the door.
URL:https://greatermiramichisc.ca/event/miramichi-folklore-park-thursday-night-kitchen-party/2027-04-01/
LOCATION:Miramichi Folklore Park\, 46 Memory Lane\, Renous\, New Brunswick\, Canada
CATEGORIES:Community Events,Family,Music
END:VEVENT
BEGIN:VEVENT
DTSTART;TZID=UTC:20270403T090000
DTEND;TZID=UTC:20270403T130000
DTSTAMP:20260419T164326
CREATED:20260414T144937Z
LAST-MODIFIED:20260414T144937Z
UID:10000879-1806742800-1806757200@greatermiramichisc.ca
SUMMARY:Water Street Farmer's Market - Miramichi
DESCRIPTION:Open every Saturday until the Saturday before Christmas & closed January & February. \nThe Water Street Farmers Market is a small-town farmers market located in the city of Miramichi\, and is characterized by its warmth and hospitality.
URL:https://greatermiramichisc.ca/event/water-street-farmers-market-miramichi/2027-04-03/
LOCATION:Water Street Farmers Market\, 1 Ellis St\, Miramichi\, New Brunswick\, Canada
CATEGORIES:Community Events,Family
END:VEVENT
BEGIN:VEVENT
DTSTART;TZID=UTC:20270407T130000
DTEND;TZID=UTC:20270407T134500
DTSTAMP:20260419T164326
CREATED:20260310T144350Z
LAST-MODIFIED:20260310T144350Z
UID:10000792-1807102800-1807105500@greatermiramichisc.ca
SUMMARY:Songs & Rhymes Program - Blackville Community Centre
DESCRIPTION:Songs and Rhymes\, a free program for parents/caregivers and children ages birth to 16 months\, begins Wednesday\, March 18 in Blackville. \nThis 8 week program will be held every Wednesday from 10:00am until 10:45am at the Blackville Community Centre\, 12 South Bartholomew Road until May 6. \nShare the pleasure and power of using rhymes\, songs and stories while helping grow your child’s language and literacy skills. \nTo register\, call 1-888-623-6363 (toll free)\, email asdn.talkwithme@nbed.nb.ca or message via Facebook at Talk With Me-Anglophone North.
URL:https://greatermiramichisc.ca/event/songs-rhymes-program-blackville-community-centre/2027-04-07/
LOCATION:Blackville Community Centre\, 12 South Bartholomew Rd\, Blackville\, New Brunswick\, Canada
CATEGORIES:Family
END:VEVENT
BEGIN:VEVENT
DTSTART;TZID=UTC:20270408T220000
DTEND;TZID=UTC:20270409T010000
DTSTAMP:20260419T164326
CREATED:20260205T123352Z
LAST-MODIFIED:20260205T123352Z
UID:10000438-1807221600-1807232400@greatermiramichisc.ca
SUMMARY:Miramichi Folklore Park Thursday Night Kitchen Party
DESCRIPTION:Enjoy local music\, complimentary tea and coffee\, and a light lunch during intermission. Half and half tickets are sold for a chance to win cash. Donations are welcome at the door.
URL:https://greatermiramichisc.ca/event/miramichi-folklore-park-thursday-night-kitchen-party/2027-04-08/
LOCATION:Miramichi Folklore Park\, 46 Memory Lane\, Renous\, New Brunswick\, Canada
CATEGORIES:Community Events,Family,Music
END:VEVENT
BEGIN:VEVENT
DTSTART;TZID=UTC:20270410T090000
DTEND;TZID=UTC:20270410T130000
DTSTAMP:20260419T164326
CREATED:20260414T144937Z
LAST-MODIFIED:20260414T144937Z
UID:10000880-1807347600-1807362000@greatermiramichisc.ca
SUMMARY:Water Street Farmer's Market - Miramichi
DESCRIPTION:Open every Saturday until the Saturday before Christmas & closed January & February. \nThe Water Street Farmers Market is a small-town farmers market located in the city of Miramichi\, and is characterized by its warmth and hospitality.
URL:https://greatermiramichisc.ca/event/water-street-farmers-market-miramichi/2027-04-10/
LOCATION:Water Street Farmers Market\, 1 Ellis St\, Miramichi\, New Brunswick\, Canada
CATEGORIES:Community Events,Family
END:VEVENT
BEGIN:VEVENT
DTSTART;TZID=UTC:20270414T130000
DTEND;TZID=UTC:20270414T134500
DTSTAMP:20260419T164326
CREATED:20260310T144350Z
LAST-MODIFIED:20260310T144350Z
UID:10000793-1807707600-1807710300@greatermiramichisc.ca
SUMMARY:Songs & Rhymes Program - Blackville Community Centre
DESCRIPTION:Songs and Rhymes\, a free program for parents/caregivers and children ages birth to 16 months\, begins Wednesday\, March 18 in Blackville. \nThis 8 week program will be held every Wednesday from 10:00am until 10:45am at the Blackville Community Centre\, 12 South Bartholomew Road until May 6. \nShare the pleasure and power of using rhymes\, songs and stories while helping grow your child’s language and literacy skills. \nTo register\, call 1-888-623-6363 (toll free)\, email asdn.talkwithme@nbed.nb.ca or message via Facebook at Talk With Me-Anglophone North.
URL:https://greatermiramichisc.ca/event/songs-rhymes-program-blackville-community-centre/2027-04-14/
LOCATION:Blackville Community Centre\, 12 South Bartholomew Rd\, Blackville\, New Brunswick\, Canada
CATEGORIES:Family
END:VEVENT
BEGIN:VEVENT
DTSTART;TZID=UTC:20270415T220000
DTEND;TZID=UTC:20270416T010000
DTSTAMP:20260419T164326
CREATED:20260205T123352Z
LAST-MODIFIED:20260205T123352Z
UID:10000439-1807826400-1807837200@greatermiramichisc.ca
SUMMARY:Miramichi Folklore Park Thursday Night Kitchen Party
DESCRIPTION:Enjoy local music\, complimentary tea and coffee\, and a light lunch during intermission. Half and half tickets are sold for a chance to win cash. Donations are welcome at the door.
URL:https://greatermiramichisc.ca/event/miramichi-folklore-park-thursday-night-kitchen-party/2027-04-15/
LOCATION:Miramichi Folklore Park\, 46 Memory Lane\, Renous\, New Brunswick\, Canada
CATEGORIES:Community Events,Family,Music
END:VEVENT
BEGIN:VEVENT
DTSTART;TZID=UTC:20270417T090000
DTEND;TZID=UTC:20270417T130000
DTSTAMP:20260419T164326
CREATED:20260414T144937Z
LAST-MODIFIED:20260414T144937Z
UID:10000881-1807952400-1807966800@greatermiramichisc.ca
SUMMARY:Water Street Farmer's Market - Miramichi
DESCRIPTION:Open every Saturday until the Saturday before Christmas & closed January & February. \nThe Water Street Farmers Market is a small-town farmers market located in the city of Miramichi\, and is characterized by its warmth and hospitality.
URL:https://greatermiramichisc.ca/event/water-street-farmers-market-miramichi/2027-04-17/
LOCATION:Water Street Farmers Market\, 1 Ellis St\, Miramichi\, New Brunswick\, Canada
CATEGORIES:Community Events,Family
END:VEVENT
BEGIN:VEVENT
DTSTART;TZID=UTC:20270421T130000
DTEND;TZID=UTC:20270421T134500
DTSTAMP:20260419T164326
CREATED:20260310T144350Z
LAST-MODIFIED:20260310T144350Z
UID:10000794-1808312400-1808315100@greatermiramichisc.ca
SUMMARY:Songs & Rhymes Program - Blackville Community Centre
DESCRIPTION:Songs and Rhymes\, a free program for parents/caregivers and children ages birth to 16 months\, begins Wednesday\, March 18 in Blackville. \nThis 8 week program will be held every Wednesday from 10:00am until 10:45am at the Blackville Community Centre\, 12 South Bartholomew Road until May 6. \nShare the pleasure and power of using rhymes\, songs and stories while helping grow your child’s language and literacy skills. \nTo register\, call 1-888-623-6363 (toll free)\, email asdn.talkwithme@nbed.nb.ca or message via Facebook at Talk With Me-Anglophone North.
URL:https://greatermiramichisc.ca/event/songs-rhymes-program-blackville-community-centre/2027-04-21/
LOCATION:Blackville Community Centre\, 12 South Bartholomew Rd\, Blackville\, New Brunswick\, Canada
CATEGORIES:Family
END:VEVENT
BEGIN:VEVENT
DTSTART;TZID=UTC:20270422T220000
DTEND;TZID=UTC:20270423T010000
DTSTAMP:20260419T164326
CREATED:20260205T123352Z
LAST-MODIFIED:20260205T123352Z
UID:10000440-1808431200-1808442000@greatermiramichisc.ca
SUMMARY:Miramichi Folklore Park Thursday Night Kitchen Party
DESCRIPTION:Enjoy local music\, complimentary tea and coffee\, and a light lunch during intermission. Half and half tickets are sold for a chance to win cash. Donations are welcome at the door.
URL:https://greatermiramichisc.ca/event/miramichi-folklore-park-thursday-night-kitchen-party/2027-04-22/
LOCATION:Miramichi Folklore Park\, 46 Memory Lane\, Renous\, New Brunswick\, Canada
CATEGORIES:Community Events,Family,Music
END:VEVENT
BEGIN:VEVENT
DTSTART;TZID=UTC:20270424T090000
DTEND;TZID=UTC:20270424T130000
DTSTAMP:20260419T164326
CREATED:20260414T144937Z
LAST-MODIFIED:20260414T144937Z
UID:10000882-1808557200-1808571600@greatermiramichisc.ca
SUMMARY:Water Street Farmer's Market - Miramichi
DESCRIPTION:Open every Saturday until the Saturday before Christmas & closed January & February. \nThe Water Street Farmers Market is a small-town farmers market located in the city of Miramichi\, and is characterized by its warmth and hospitality.
URL:https://greatermiramichisc.ca/event/water-street-farmers-market-miramichi/2027-04-24/
LOCATION:Water Street Farmers Market\, 1 Ellis St\, Miramichi\, New Brunswick\, Canada
CATEGORIES:Community Events,Family
END:VEVENT
BEGIN:VEVENT
DTSTART;TZID=UTC:20270428T130000
DTEND;TZID=UTC:20270428T134500
DTSTAMP:20260419T164326
CREATED:20260310T144350Z
LAST-MODIFIED:20260310T144350Z
UID:10000795-1808917200-1808919900@greatermiramichisc.ca
SUMMARY:Songs & Rhymes Program - Blackville Community Centre
DESCRIPTION:Songs and Rhymes\, a free program for parents/caregivers and children ages birth to 16 months\, begins Wednesday\, March 18 in Blackville. \nThis 8 week program will be held every Wednesday from 10:00am until 10:45am at the Blackville Community Centre\, 12 South Bartholomew Road until May 6. \nShare the pleasure and power of using rhymes\, songs and stories while helping grow your child’s language and literacy skills. \nTo register\, call 1-888-623-6363 (toll free)\, email asdn.talkwithme@nbed.nb.ca or message via Facebook at Talk With Me-Anglophone North.
URL:https://greatermiramichisc.ca/event/songs-rhymes-program-blackville-community-centre/2027-04-28/
LOCATION:Blackville Community Centre\, 12 South Bartholomew Rd\, Blackville\, New Brunswick\, Canada
CATEGORIES:Family
END:VEVENT
BEGIN:VEVENT
DTSTART;TZID=UTC:20270429T220000
DTEND;TZID=UTC:20270430T010000
DTSTAMP:20260419T164326
CREATED:20260205T123352Z
LAST-MODIFIED:20260205T123352Z
UID:10000441-1809036000-1809046800@greatermiramichisc.ca
SUMMARY:Miramichi Folklore Park Thursday Night Kitchen Party
DESCRIPTION:Enjoy local music\, complimentary tea and coffee\, and a light lunch during intermission. Half and half tickets are sold for a chance to win cash. Donations are welcome at the door.
URL:https://greatermiramichisc.ca/event/miramichi-folklore-park-thursday-night-kitchen-party/2027-04-29/
LOCATION:Miramichi Folklore Park\, 46 Memory Lane\, Renous\, New Brunswick\, Canada
CATEGORIES:Community Events,Family,Music
END:VEVENT
BEGIN:VEVENT
DTSTART;TZID=UTC:20270501T090000
DTEND;TZID=UTC:20270501T130000
DTSTAMP:20260419T164326
CREATED:20260414T144937Z
LAST-MODIFIED:20260414T144937Z
UID:10000883-1809162000-1809176400@greatermiramichisc.ca
SUMMARY:Water Street Farmer's Market - Miramichi
DESCRIPTION:Open every Saturday until the Saturday before Christmas & closed January & February. \nThe Water Street Farmers Market is a small-town farmers market located in the city of Miramichi\, and is characterized by its warmth and hospitality.
URL:https://greatermiramichisc.ca/event/water-street-farmers-market-miramichi/2027-05-01/
LOCATION:Water Street Farmers Market\, 1 Ellis St\, Miramichi\, New Brunswick\, Canada
CATEGORIES:Community Events,Family
END:VEVENT
BEGIN:VEVENT
DTSTART;TZID=UTC:20270505T130000
DTEND;TZID=UTC:20270505T134500
DTSTAMP:20260419T164326
CREATED:20260310T144350Z
LAST-MODIFIED:20260310T144350Z
UID:10000796-1809522000-1809524700@greatermiramichisc.ca
SUMMARY:Songs & Rhymes Program - Blackville Community Centre
DESCRIPTION:Songs and Rhymes\, a free program for parents/caregivers and children ages birth to 16 months\, begins Wednesday\, March 18 in Blackville. \nThis 8 week program will be held every Wednesday from 10:00am until 10:45am at the Blackville Community Centre\, 12 South Bartholomew Road until May 6. \nShare the pleasure and power of using rhymes\, songs and stories while helping grow your child’s language and literacy skills. \nTo register\, call 1-888-623-6363 (toll free)\, email asdn.talkwithme@nbed.nb.ca or message via Facebook at Talk With Me-Anglophone North.
URL:https://greatermiramichisc.ca/event/songs-rhymes-program-blackville-community-centre/2027-05-05/
LOCATION:Blackville Community Centre\, 12 South Bartholomew Rd\, Blackville\, New Brunswick\, Canada
CATEGORIES:Family
END:VEVENT
BEGIN:VEVENT
DTSTART;TZID=UTC:20270506T220000
DTEND;TZID=UTC:20270507T010000
DTSTAMP:20260419T164326
CREATED:20260205T123352Z
LAST-MODIFIED:20260205T123352Z
UID:10000442-1809640800-1809651600@greatermiramichisc.ca
SUMMARY:Miramichi Folklore Park Thursday Night Kitchen Party
DESCRIPTION:Enjoy local music\, complimentary tea and coffee\, and a light lunch during intermission. Half and half tickets are sold for a chance to win cash. Donations are welcome at the door.
URL:https://greatermiramichisc.ca/event/miramichi-folklore-park-thursday-night-kitchen-party/2027-05-06/
LOCATION:Miramichi Folklore Park\, 46 Memory Lane\, Renous\, New Brunswick\, Canada
CATEGORIES:Community Events,Family,Music
END:VEVENT
BEGIN:VEVENT
DTSTART;TZID=UTC:20270508T090000
DTEND;TZID=UTC:20270508T130000
DTSTAMP:20260419T164326
CREATED:20260414T144937Z
LAST-MODIFIED:20260414T144937Z
UID:10000884-1809766800-1809781200@greatermiramichisc.ca
SUMMARY:Water Street Farmer's Market - Miramichi
DESCRIPTION:Open every Saturday until the Saturday before Christmas & closed January & February. \nThe Water Street Farmers Market is a small-town farmers market located in the city of Miramichi\, and is characterized by its warmth and hospitality.
URL:https://greatermiramichisc.ca/event/water-street-farmers-market-miramichi/2027-05-08/
LOCATION:Water Street Farmers Market\, 1 Ellis St\, Miramichi\, New Brunswick\, Canada
CATEGORIES:Community Events,Family
END:VEVENT
BEGIN:VEVENT
DTSTART;TZID=UTC:20270513T220000
DTEND;TZID=UTC:20270514T010000
DTSTAMP:20260419T164326
CREATED:20260205T123352Z
LAST-MODIFIED:20260205T123352Z
UID:10000443-1810245600-1810256400@greatermiramichisc.ca
SUMMARY:Miramichi Folklore Park Thursday Night Kitchen Party
DESCRIPTION:Enjoy local music\, complimentary tea and coffee\, and a light lunch during intermission. Half and half tickets are sold for a chance to win cash. Donations are welcome at the door.
URL:https://greatermiramichisc.ca/event/miramichi-folklore-park-thursday-night-kitchen-party/2027-05-13/
LOCATION:Miramichi Folklore Park\, 46 Memory Lane\, Renous\, New Brunswick\, Canada
CATEGORIES:Community Events,Family,Music
END:VEVENT
BEGIN:VEVENT
DTSTART;TZID=UTC:20270515T090000
DTEND;TZID=UTC:20270515T130000
DTSTAMP:20260419T164326
CREATED:20260414T144937Z
LAST-MODIFIED:20260414T144937Z
UID:10000885-1810371600-1810386000@greatermiramichisc.ca
SUMMARY:Water Street Farmer's Market - Miramichi
DESCRIPTION:Open every Saturday until the Saturday before Christmas & closed January & February. \nThe Water Street Farmers Market is a small-town farmers market located in the city of Miramichi\, and is characterized by its warmth and hospitality.
URL:https://greatermiramichisc.ca/event/water-street-farmers-market-miramichi/2027-05-15/
LOCATION:Water Street Farmers Market\, 1 Ellis St\, Miramichi\, New Brunswick\, Canada
CATEGORIES:Community Events,Family
END:VEVENT
BEGIN:VEVENT
DTSTART;TZID=UTC:20270520T220000
DTEND;TZID=UTC:20270521T010000
DTSTAMP:20260419T164326
CREATED:20260205T123352Z
LAST-MODIFIED:20260205T123352Z
UID:10000444-1810850400-1810861200@greatermiramichisc.ca
SUMMARY:Miramichi Folklore Park Thursday Night Kitchen Party
DESCRIPTION:Enjoy local music\, complimentary tea and coffee\, and a light lunch during intermission. Half and half tickets are sold for a chance to win cash. Donations are welcome at the door.
URL:https://greatermiramichisc.ca/event/miramichi-folklore-park-thursday-night-kitchen-party/2027-05-20/
LOCATION:Miramichi Folklore Park\, 46 Memory Lane\, Renous\, New Brunswick\, Canada
CATEGORIES:Community Events,Family,Music
END:VEVENT
BEGIN:VEVENT
DTSTART;TZID=UTC:20270522T090000
DTEND;TZID=UTC:20270522T130000
DTSTAMP:20260419T164326
CREATED:20260414T144937Z
LAST-MODIFIED:20260414T144937Z
UID:10000886-1810976400-1810990800@greatermiramichisc.ca
SUMMARY:Water Street Farmer's Market - Miramichi
DESCRIPTION:Open every Saturday until the Saturday before Christmas & closed January & February. \nThe Water Street Farmers Market is a small-town farmers market located in the city of Miramichi\, and is characterized by its warmth and hospitality.
URL:https://greatermiramichisc.ca/event/water-street-farmers-market-miramichi/2027-05-22/
LOCATION:Water Street Farmers Market\, 1 Ellis St\, Miramichi\, New Brunswick\, Canada
CATEGORIES:Community Events,Family
END:VEVENT
BEGIN:VEVENT
DTSTART;TZID=UTC:20270527T220000
DTEND;TZID=UTC:20270528T010000
DTSTAMP:20260419T164326
CREATED:20260205T123352Z
LAST-MODIFIED:20260205T123352Z
UID:10000445-1811455200-1811466000@greatermiramichisc.ca
SUMMARY:Miramichi Folklore Park Thursday Night Kitchen Party
DESCRIPTION:Enjoy local music\, complimentary tea and coffee\, and a light lunch during intermission. Half and half tickets are sold for a chance to win cash. Donations are welcome at the door.
URL:https://greatermiramichisc.ca/event/miramichi-folklore-park-thursday-night-kitchen-party/2027-05-27/
LOCATION:Miramichi Folklore Park\, 46 Memory Lane\, Renous\, New Brunswick\, Canada
CATEGORIES:Community Events,Family,Music
END:VEVENT
BEGIN:VEVENT
DTSTART;TZID=UTC:20270529T090000
DTEND;TZID=UTC:20270529T130000
DTSTAMP:20260419T164326
CREATED:20260414T144937Z
LAST-MODIFIED:20260414T144937Z
UID:10000887-1811581200-1811595600@greatermiramichisc.ca
SUMMARY:Water Street Farmer's Market - Miramichi
DESCRIPTION:Open every Saturday until the Saturday before Christmas & closed January & February. \nThe Water Street Farmers Market is a small-town farmers market located in the city of Miramichi\, and is characterized by its warmth and hospitality.
URL:https://greatermiramichisc.ca/event/water-street-farmers-market-miramichi/2027-05-29/
LOCATION:Water Street Farmers Market\, 1 Ellis St\, Miramichi\, New Brunswick\, Canada
CATEGORIES:Community Events,Family
END:VEVENT
BEGIN:VEVENT
DTSTART;TZID=UTC:20270603T220000
DTEND;TZID=UTC:20270604T010000
DTSTAMP:20260419T164326
CREATED:20260205T123352Z
LAST-MODIFIED:20260205T123352Z
UID:10000446-1812060000-1812070800@greatermiramichisc.ca
SUMMARY:Miramichi Folklore Park Thursday Night Kitchen Party
DESCRIPTION:Enjoy local music\, complimentary tea and coffee\, and a light lunch during intermission. Half and half tickets are sold for a chance to win cash. Donations are welcome at the door.
URL:https://greatermiramichisc.ca/event/miramichi-folklore-park-thursday-night-kitchen-party/2027-06-03/
LOCATION:Miramichi Folklore Park\, 46 Memory Lane\, Renous\, New Brunswick\, Canada
CATEGORIES:Community Events,Family,Music
END:VEVENT
BEGIN:VEVENT
DTSTART;TZID=UTC:20270605T090000
DTEND;TZID=UTC:20270605T130000
DTSTAMP:20260419T164326
CREATED:20260414T144937Z
LAST-MODIFIED:20260414T144937Z
UID:10000888-1812186000-1812200400@greatermiramichisc.ca
SUMMARY:Water Street Farmer's Market - Miramichi
DESCRIPTION:Open every Saturday until the Saturday before Christmas & closed January & February. \nThe Water Street Farmers Market is a small-town farmers market located in the city of Miramichi\, and is characterized by its warmth and hospitality.
URL:https://greatermiramichisc.ca/event/water-street-farmers-market-miramichi/2027-06-05/
LOCATION:Water Street Farmers Market\, 1 Ellis St\, Miramichi\, New Brunswick\, Canada
CATEGORIES:Community Events,Family
END:VEVENT
BEGIN:VEVENT
DTSTART;TZID=UTC:20270610T220000
DTEND;TZID=UTC:20270611T010000
DTSTAMP:20260419T164326
CREATED:20260205T123352Z
LAST-MODIFIED:20260205T123352Z
UID:10000447-1812664800-1812675600@greatermiramichisc.ca
SUMMARY:Miramichi Folklore Park Thursday Night Kitchen Party
DESCRIPTION:Enjoy local music\, complimentary tea and coffee\, and a light lunch during intermission. Half and half tickets are sold for a chance to win cash. Donations are welcome at the door.
URL:https://greatermiramichisc.ca/event/miramichi-folklore-park-thursday-night-kitchen-party/2027-06-10/
LOCATION:Miramichi Folklore Park\, 46 Memory Lane\, Renous\, New Brunswick\, Canada
CATEGORIES:Community Events,Family,Music
END:VEVENT
END:VCALENDAR