BEGIN:VCALENDAR
VERSION:2.0
PRODID:-//Greater Miramichi Service Commission - ECPv6.15.20//NONSGML v1.0//EN
CALSCALE:GREGORIAN
METHOD:PUBLISH
X-ORIGINAL-URL:https://greatermiramichisc.ca
X-WR-CALDESC:Events for Greater Miramichi Service Commission
REFRESH-INTERVAL;VALUE=DURATION:PT1H
X-Robots-Tag:noindex
X-PUBLISHED-TTL:PT1H
BEGIN:VTIMEZONE
TZID:UTC
BEGIN:STANDARD
TZOFFSETFROM:+0000
TZOFFSETTO:+0000
TZNAME:UTC
DTSTART:20260101T000000
END:STANDARD
END:VTIMEZONE
BEGIN:VEVENT
DTSTART;TZID=UTC:20270522T090000
DTEND;TZID=UTC:20270522T130000
DTSTAMP:20260419T202053
CREATED:20260414T144937Z
LAST-MODIFIED:20260414T144937Z
UID:10000886-1810976400-1810990800@greatermiramichisc.ca
SUMMARY:Water Street Farmer's Market - Miramichi
DESCRIPTION:Open every Saturday until the Saturday before Christmas & closed January & February. \nThe Water Street Farmers Market is a small-town farmers market located in the city of Miramichi\, and is characterized by its warmth and hospitality.
URL:https://greatermiramichisc.ca/event/water-street-farmers-market-miramichi/2027-05-22/
LOCATION:Water Street Farmers Market\, 1 Ellis St\, Miramichi\, New Brunswick\, Canada
CATEGORIES:Community Events,Family
END:VEVENT
BEGIN:VEVENT
DTSTART;TZID=UTC:20270527T220000
DTEND;TZID=UTC:20270528T010000
DTSTAMP:20260419T202053
CREATED:20260205T123352Z
LAST-MODIFIED:20260205T123352Z
UID:10000445-1811455200-1811466000@greatermiramichisc.ca
SUMMARY:Miramichi Folklore Park Thursday Night Kitchen Party
DESCRIPTION:Enjoy local music\, complimentary tea and coffee\, and a light lunch during intermission. Half and half tickets are sold for a chance to win cash. Donations are welcome at the door.
URL:https://greatermiramichisc.ca/event/miramichi-folklore-park-thursday-night-kitchen-party/2027-05-27/
LOCATION:Miramichi Folklore Park\, 46 Memory Lane\, Renous\, New Brunswick\, Canada
CATEGORIES:Community Events,Family,Music
END:VEVENT
BEGIN:VEVENT
DTSTART;TZID=UTC:20270529T090000
DTEND;TZID=UTC:20270529T130000
DTSTAMP:20260419T202053
CREATED:20260414T144937Z
LAST-MODIFIED:20260414T144937Z
UID:10000887-1811581200-1811595600@greatermiramichisc.ca
SUMMARY:Water Street Farmer's Market - Miramichi
DESCRIPTION:Open every Saturday until the Saturday before Christmas & closed January & February. \nThe Water Street Farmers Market is a small-town farmers market located in the city of Miramichi\, and is characterized by its warmth and hospitality.
URL:https://greatermiramichisc.ca/event/water-street-farmers-market-miramichi/2027-05-29/
LOCATION:Water Street Farmers Market\, 1 Ellis St\, Miramichi\, New Brunswick\, Canada
CATEGORIES:Community Events,Family
END:VEVENT
BEGIN:VEVENT
DTSTART;TZID=UTC:20270603T220000
DTEND;TZID=UTC:20270604T010000
DTSTAMP:20260419T202053
CREATED:20260205T123352Z
LAST-MODIFIED:20260205T123352Z
UID:10000446-1812060000-1812070800@greatermiramichisc.ca
SUMMARY:Miramichi Folklore Park Thursday Night Kitchen Party
DESCRIPTION:Enjoy local music\, complimentary tea and coffee\, and a light lunch during intermission. Half and half tickets are sold for a chance to win cash. Donations are welcome at the door.
URL:https://greatermiramichisc.ca/event/miramichi-folklore-park-thursday-night-kitchen-party/2027-06-03/
LOCATION:Miramichi Folklore Park\, 46 Memory Lane\, Renous\, New Brunswick\, Canada
CATEGORIES:Community Events,Family,Music
END:VEVENT
BEGIN:VEVENT
DTSTART;TZID=UTC:20270605T090000
DTEND;TZID=UTC:20270605T130000
DTSTAMP:20260419T202053
CREATED:20260414T144937Z
LAST-MODIFIED:20260414T144937Z
UID:10000888-1812186000-1812200400@greatermiramichisc.ca
SUMMARY:Water Street Farmer's Market - Miramichi
DESCRIPTION:Open every Saturday until the Saturday before Christmas & closed January & February. \nThe Water Street Farmers Market is a small-town farmers market located in the city of Miramichi\, and is characterized by its warmth and hospitality.
URL:https://greatermiramichisc.ca/event/water-street-farmers-market-miramichi/2027-06-05/
LOCATION:Water Street Farmers Market\, 1 Ellis St\, Miramichi\, New Brunswick\, Canada
CATEGORIES:Community Events,Family
END:VEVENT
BEGIN:VEVENT
DTSTART;TZID=UTC:20270610T220000
DTEND;TZID=UTC:20270611T010000
DTSTAMP:20260419T202053
CREATED:20260205T123352Z
LAST-MODIFIED:20260205T123352Z
UID:10000447-1812664800-1812675600@greatermiramichisc.ca
SUMMARY:Miramichi Folklore Park Thursday Night Kitchen Party
DESCRIPTION:Enjoy local music\, complimentary tea and coffee\, and a light lunch during intermission. Half and half tickets are sold for a chance to win cash. Donations are welcome at the door.
URL:https://greatermiramichisc.ca/event/miramichi-folklore-park-thursday-night-kitchen-party/2027-06-10/
LOCATION:Miramichi Folklore Park\, 46 Memory Lane\, Renous\, New Brunswick\, Canada
CATEGORIES:Community Events,Family,Music
END:VEVENT
BEGIN:VEVENT
DTSTART;TZID=UTC:20270612T090000
DTEND;TZID=UTC:20270612T130000
DTSTAMP:20260419T202053
CREATED:20260414T144937Z
LAST-MODIFIED:20260414T144937Z
UID:10000889-1812790800-1812805200@greatermiramichisc.ca
SUMMARY:Water Street Farmer's Market - Miramichi
DESCRIPTION:Open every Saturday until the Saturday before Christmas & closed January & February. \nThe Water Street Farmers Market is a small-town farmers market located in the city of Miramichi\, and is characterized by its warmth and hospitality.
URL:https://greatermiramichisc.ca/event/water-street-farmers-market-miramichi/2027-06-12/
LOCATION:Water Street Farmers Market\, 1 Ellis St\, Miramichi\, New Brunswick\, Canada
CATEGORIES:Community Events,Family
END:VEVENT
BEGIN:VEVENT
DTSTART;TZID=UTC:20270617T220000
DTEND;TZID=UTC:20270618T010000
DTSTAMP:20260419T202053
CREATED:20260205T123352Z
LAST-MODIFIED:20260205T123352Z
UID:10000448-1813269600-1813280400@greatermiramichisc.ca
SUMMARY:Miramichi Folklore Park Thursday Night Kitchen Party
DESCRIPTION:Enjoy local music\, complimentary tea and coffee\, and a light lunch during intermission. Half and half tickets are sold for a chance to win cash. Donations are welcome at the door.
URL:https://greatermiramichisc.ca/event/miramichi-folklore-park-thursday-night-kitchen-party/2027-06-17/
LOCATION:Miramichi Folklore Park\, 46 Memory Lane\, Renous\, New Brunswick\, Canada
CATEGORIES:Community Events,Family,Music
END:VEVENT
BEGIN:VEVENT
DTSTART;TZID=UTC:20270619T090000
DTEND;TZID=UTC:20270619T130000
DTSTAMP:20260419T202053
CREATED:20260414T144937Z
LAST-MODIFIED:20260414T144937Z
UID:10000890-1813395600-1813410000@greatermiramichisc.ca
SUMMARY:Water Street Farmer's Market - Miramichi
DESCRIPTION:Open every Saturday until the Saturday before Christmas & closed January & February. \nThe Water Street Farmers Market is a small-town farmers market located in the city of Miramichi\, and is characterized by its warmth and hospitality.
URL:https://greatermiramichisc.ca/event/water-street-farmers-market-miramichi/2027-06-19/
LOCATION:Water Street Farmers Market\, 1 Ellis St\, Miramichi\, New Brunswick\, Canada
CATEGORIES:Community Events,Family
END:VEVENT
BEGIN:VEVENT
DTSTART;TZID=UTC:20270624T220000
DTEND;TZID=UTC:20270625T010000
DTSTAMP:20260419T202053
CREATED:20260205T123352Z
LAST-MODIFIED:20260205T123352Z
UID:10000449-1813874400-1813885200@greatermiramichisc.ca
SUMMARY:Miramichi Folklore Park Thursday Night Kitchen Party
DESCRIPTION:Enjoy local music\, complimentary tea and coffee\, and a light lunch during intermission. Half and half tickets are sold for a chance to win cash. Donations are welcome at the door.
URL:https://greatermiramichisc.ca/event/miramichi-folklore-park-thursday-night-kitchen-party/2027-06-24/
LOCATION:Miramichi Folklore Park\, 46 Memory Lane\, Renous\, New Brunswick\, Canada
CATEGORIES:Community Events,Family,Music
END:VEVENT
BEGIN:VEVENT
DTSTART;TZID=UTC:20270626T090000
DTEND;TZID=UTC:20270626T130000
DTSTAMP:20260419T202053
CREATED:20260414T144937Z
LAST-MODIFIED:20260414T144937Z
UID:10000891-1814000400-1814014800@greatermiramichisc.ca
SUMMARY:Water Street Farmer's Market - Miramichi
DESCRIPTION:Open every Saturday until the Saturday before Christmas & closed January & February. \nThe Water Street Farmers Market is a small-town farmers market located in the city of Miramichi\, and is characterized by its warmth and hospitality.
URL:https://greatermiramichisc.ca/event/water-street-farmers-market-miramichi/2027-06-26/
LOCATION:Water Street Farmers Market\, 1 Ellis St\, Miramichi\, New Brunswick\, Canada
CATEGORIES:Community Events,Family
END:VEVENT
BEGIN:VEVENT
DTSTART;TZID=UTC:20270701T220000
DTEND;TZID=UTC:20270702T010000
DTSTAMP:20260419T202053
CREATED:20260205T123352Z
LAST-MODIFIED:20260205T123352Z
UID:10000450-1814479200-1814490000@greatermiramichisc.ca
SUMMARY:Miramichi Folklore Park Thursday Night Kitchen Party
DESCRIPTION:Enjoy local music\, complimentary tea and coffee\, and a light lunch during intermission. Half and half tickets are sold for a chance to win cash. Donations are welcome at the door.
URL:https://greatermiramichisc.ca/event/miramichi-folklore-park-thursday-night-kitchen-party/2027-07-01/
LOCATION:Miramichi Folklore Park\, 46 Memory Lane\, Renous\, New Brunswick\, Canada
CATEGORIES:Community Events,Family,Music
END:VEVENT
BEGIN:VEVENT
DTSTART;TZID=UTC:20270703T090000
DTEND;TZID=UTC:20270703T130000
DTSTAMP:20260419T202053
CREATED:20260414T144937Z
LAST-MODIFIED:20260414T144937Z
UID:10000892-1814605200-1814619600@greatermiramichisc.ca
SUMMARY:Water Street Farmer's Market - Miramichi
DESCRIPTION:Open every Saturday until the Saturday before Christmas & closed January & February. \nThe Water Street Farmers Market is a small-town farmers market located in the city of Miramichi\, and is characterized by its warmth and hospitality.
URL:https://greatermiramichisc.ca/event/water-street-farmers-market-miramichi/2027-07-03/
LOCATION:Water Street Farmers Market\, 1 Ellis St\, Miramichi\, New Brunswick\, Canada
CATEGORIES:Community Events,Family
END:VEVENT
BEGIN:VEVENT
DTSTART;TZID=UTC:20270708T220000
DTEND;TZID=UTC:20270709T010000
DTSTAMP:20260419T202053
CREATED:20260205T123352Z
LAST-MODIFIED:20260205T123352Z
UID:10000451-1815084000-1815094800@greatermiramichisc.ca
SUMMARY:Miramichi Folklore Park Thursday Night Kitchen Party
DESCRIPTION:Enjoy local music\, complimentary tea and coffee\, and a light lunch during intermission. Half and half tickets are sold for a chance to win cash. Donations are welcome at the door.
URL:https://greatermiramichisc.ca/event/miramichi-folklore-park-thursday-night-kitchen-party/2027-07-08/
LOCATION:Miramichi Folklore Park\, 46 Memory Lane\, Renous\, New Brunswick\, Canada
CATEGORIES:Community Events,Family,Music
END:VEVENT
BEGIN:VEVENT
DTSTART;TZID=UTC:20270710T090000
DTEND;TZID=UTC:20270710T130000
DTSTAMP:20260419T202053
CREATED:20260414T144937Z
LAST-MODIFIED:20260414T144937Z
UID:10000893-1815210000-1815224400@greatermiramichisc.ca
SUMMARY:Water Street Farmer's Market - Miramichi
DESCRIPTION:Open every Saturday until the Saturday before Christmas & closed January & February. \nThe Water Street Farmers Market is a small-town farmers market located in the city of Miramichi\, and is characterized by its warmth and hospitality.
URL:https://greatermiramichisc.ca/event/water-street-farmers-market-miramichi/2027-07-10/
LOCATION:Water Street Farmers Market\, 1 Ellis St\, Miramichi\, New Brunswick\, Canada
CATEGORIES:Community Events,Family
END:VEVENT
BEGIN:VEVENT
DTSTART;TZID=UTC:20270715T220000
DTEND;TZID=UTC:20270716T010000
DTSTAMP:20260419T202053
CREATED:20260205T123352Z
LAST-MODIFIED:20260205T123352Z
UID:10000452-1815688800-1815699600@greatermiramichisc.ca
SUMMARY:Miramichi Folklore Park Thursday Night Kitchen Party
DESCRIPTION:Enjoy local music\, complimentary tea and coffee\, and a light lunch during intermission. Half and half tickets are sold for a chance to win cash. Donations are welcome at the door.
URL:https://greatermiramichisc.ca/event/miramichi-folklore-park-thursday-night-kitchen-party/2027-07-15/
LOCATION:Miramichi Folklore Park\, 46 Memory Lane\, Renous\, New Brunswick\, Canada
CATEGORIES:Community Events,Family,Music
END:VEVENT
BEGIN:VEVENT
DTSTART;TZID=UTC:20270717T090000
DTEND;TZID=UTC:20270717T130000
DTSTAMP:20260419T202053
CREATED:20260414T144937Z
LAST-MODIFIED:20260414T144937Z
UID:10000894-1815814800-1815829200@greatermiramichisc.ca
SUMMARY:Water Street Farmer's Market - Miramichi
DESCRIPTION:Open every Saturday until the Saturday before Christmas & closed January & February. \nThe Water Street Farmers Market is a small-town farmers market located in the city of Miramichi\, and is characterized by its warmth and hospitality.
URL:https://greatermiramichisc.ca/event/water-street-farmers-market-miramichi/2027-07-17/
LOCATION:Water Street Farmers Market\, 1 Ellis St\, Miramichi\, New Brunswick\, Canada
CATEGORIES:Community Events,Family
END:VEVENT
BEGIN:VEVENT
DTSTART;TZID=UTC:20270722T220000
DTEND;TZID=UTC:20270723T010000
DTSTAMP:20260419T202053
CREATED:20260205T123352Z
LAST-MODIFIED:20260205T123352Z
UID:10000453-1816293600-1816304400@greatermiramichisc.ca
SUMMARY:Miramichi Folklore Park Thursday Night Kitchen Party
DESCRIPTION:Enjoy local music\, complimentary tea and coffee\, and a light lunch during intermission. Half and half tickets are sold for a chance to win cash. Donations are welcome at the door.
URL:https://greatermiramichisc.ca/event/miramichi-folklore-park-thursday-night-kitchen-party/2027-07-22/
LOCATION:Miramichi Folklore Park\, 46 Memory Lane\, Renous\, New Brunswick\, Canada
CATEGORIES:Community Events,Family,Music
END:VEVENT
BEGIN:VEVENT
DTSTART;TZID=UTC:20270724T090000
DTEND;TZID=UTC:20270724T130000
DTSTAMP:20260419T202053
CREATED:20260414T144937Z
LAST-MODIFIED:20260414T144937Z
UID:10000895-1816419600-1816434000@greatermiramichisc.ca
SUMMARY:Water Street Farmer's Market - Miramichi
DESCRIPTION:Open every Saturday until the Saturday before Christmas & closed January & February. \nThe Water Street Farmers Market is a small-town farmers market located in the city of Miramichi\, and is characterized by its warmth and hospitality.
URL:https://greatermiramichisc.ca/event/water-street-farmers-market-miramichi/2027-07-24/
LOCATION:Water Street Farmers Market\, 1 Ellis St\, Miramichi\, New Brunswick\, Canada
CATEGORIES:Community Events,Family
END:VEVENT
BEGIN:VEVENT
DTSTART;TZID=UTC:20270729T220000
DTEND;TZID=UTC:20270730T010000
DTSTAMP:20260419T202053
CREATED:20260205T123352Z
LAST-MODIFIED:20260205T123352Z
UID:10000454-1816898400-1816909200@greatermiramichisc.ca
SUMMARY:Miramichi Folklore Park Thursday Night Kitchen Party
DESCRIPTION:Enjoy local music\, complimentary tea and coffee\, and a light lunch during intermission. Half and half tickets are sold for a chance to win cash. Donations are welcome at the door.
URL:https://greatermiramichisc.ca/event/miramichi-folklore-park-thursday-night-kitchen-party/2027-07-29/
LOCATION:Miramichi Folklore Park\, 46 Memory Lane\, Renous\, New Brunswick\, Canada
CATEGORIES:Community Events,Family,Music
END:VEVENT
BEGIN:VEVENT
DTSTART;TZID=UTC:20270731T090000
DTEND;TZID=UTC:20270731T130000
DTSTAMP:20260419T202053
CREATED:20260414T144937Z
LAST-MODIFIED:20260414T144937Z
UID:10000896-1817024400-1817038800@greatermiramichisc.ca
SUMMARY:Water Street Farmer's Market - Miramichi
DESCRIPTION:Open every Saturday until the Saturday before Christmas & closed January & February. \nThe Water Street Farmers Market is a small-town farmers market located in the city of Miramichi\, and is characterized by its warmth and hospitality.
URL:https://greatermiramichisc.ca/event/water-street-farmers-market-miramichi/2027-07-31/
LOCATION:Water Street Farmers Market\, 1 Ellis St\, Miramichi\, New Brunswick\, Canada
CATEGORIES:Community Events,Family
END:VEVENT
BEGIN:VEVENT
DTSTART;TZID=UTC:20270805T220000
DTEND;TZID=UTC:20270806T010000
DTSTAMP:20260419T202053
CREATED:20260205T123352Z
LAST-MODIFIED:20260205T123352Z
UID:10000455-1817503200-1817514000@greatermiramichisc.ca
SUMMARY:Miramichi Folklore Park Thursday Night Kitchen Party
DESCRIPTION:Enjoy local music\, complimentary tea and coffee\, and a light lunch during intermission. Half and half tickets are sold for a chance to win cash. Donations are welcome at the door.
URL:https://greatermiramichisc.ca/event/miramichi-folklore-park-thursday-night-kitchen-party/2027-08-05/
LOCATION:Miramichi Folklore Park\, 46 Memory Lane\, Renous\, New Brunswick\, Canada
CATEGORIES:Community Events,Family,Music
END:VEVENT
BEGIN:VEVENT
DTSTART;TZID=UTC:20270807T090000
DTEND;TZID=UTC:20270807T130000
DTSTAMP:20260419T202053
CREATED:20260414T144937Z
LAST-MODIFIED:20260414T144937Z
UID:10000897-1817629200-1817643600@greatermiramichisc.ca
SUMMARY:Water Street Farmer's Market - Miramichi
DESCRIPTION:Open every Saturday until the Saturday before Christmas & closed January & February. \nThe Water Street Farmers Market is a small-town farmers market located in the city of Miramichi\, and is characterized by its warmth and hospitality.
URL:https://greatermiramichisc.ca/event/water-street-farmers-market-miramichi/2027-08-07/
LOCATION:Water Street Farmers Market\, 1 Ellis St\, Miramichi\, New Brunswick\, Canada
CATEGORIES:Community Events,Family
END:VEVENT
BEGIN:VEVENT
DTSTART;TZID=UTC:20270812T220000
DTEND;TZID=UTC:20270813T010000
DTSTAMP:20260419T202053
CREATED:20260205T123352Z
LAST-MODIFIED:20260205T123352Z
UID:10000456-1818108000-1818118800@greatermiramichisc.ca
SUMMARY:Miramichi Folklore Park Thursday Night Kitchen Party
DESCRIPTION:Enjoy local music\, complimentary tea and coffee\, and a light lunch during intermission. Half and half tickets are sold for a chance to win cash. Donations are welcome at the door.
URL:https://greatermiramichisc.ca/event/miramichi-folklore-park-thursday-night-kitchen-party/2027-08-12/
LOCATION:Miramichi Folklore Park\, 46 Memory Lane\, Renous\, New Brunswick\, Canada
CATEGORIES:Community Events,Family,Music
END:VEVENT
BEGIN:VEVENT
DTSTART;TZID=UTC:20270814T090000
DTEND;TZID=UTC:20270814T130000
DTSTAMP:20260419T202053
CREATED:20260414T144937Z
LAST-MODIFIED:20260414T144937Z
UID:10000898-1818234000-1818248400@greatermiramichisc.ca
SUMMARY:Water Street Farmer's Market - Miramichi
DESCRIPTION:Open every Saturday until the Saturday before Christmas & closed January & February. \nThe Water Street Farmers Market is a small-town farmers market located in the city of Miramichi\, and is characterized by its warmth and hospitality.
URL:https://greatermiramichisc.ca/event/water-street-farmers-market-miramichi/2027-08-14/
LOCATION:Water Street Farmers Market\, 1 Ellis St\, Miramichi\, New Brunswick\, Canada
CATEGORIES:Community Events,Family
END:VEVENT
BEGIN:VEVENT
DTSTART;TZID=UTC:20270819T220000
DTEND;TZID=UTC:20270820T010000
DTSTAMP:20260419T202053
CREATED:20260205T123352Z
LAST-MODIFIED:20260205T123352Z
UID:10000457-1818712800-1818723600@greatermiramichisc.ca
SUMMARY:Miramichi Folklore Park Thursday Night Kitchen Party
DESCRIPTION:Enjoy local music\, complimentary tea and coffee\, and a light lunch during intermission. Half and half tickets are sold for a chance to win cash. Donations are welcome at the door.
URL:https://greatermiramichisc.ca/event/miramichi-folklore-park-thursday-night-kitchen-party/2027-08-19/
LOCATION:Miramichi Folklore Park\, 46 Memory Lane\, Renous\, New Brunswick\, Canada
CATEGORIES:Community Events,Family,Music
END:VEVENT
BEGIN:VEVENT
DTSTART;TZID=UTC:20270821T090000
DTEND;TZID=UTC:20270821T130000
DTSTAMP:20260419T202053
CREATED:20260414T144937Z
LAST-MODIFIED:20260414T144937Z
UID:10000899-1818838800-1818853200@greatermiramichisc.ca
SUMMARY:Water Street Farmer's Market - Miramichi
DESCRIPTION:Open every Saturday until the Saturday before Christmas & closed January & February. \nThe Water Street Farmers Market is a small-town farmers market located in the city of Miramichi\, and is characterized by its warmth and hospitality.
URL:https://greatermiramichisc.ca/event/water-street-farmers-market-miramichi/2027-08-21/
LOCATION:Water Street Farmers Market\, 1 Ellis St\, Miramichi\, New Brunswick\, Canada
CATEGORIES:Community Events,Family
END:VEVENT
BEGIN:VEVENT
DTSTART;TZID=UTC:20270826T220000
DTEND;TZID=UTC:20270827T010000
DTSTAMP:20260419T202053
CREATED:20260205T123352Z
LAST-MODIFIED:20260205T123352Z
UID:10000458-1819317600-1819328400@greatermiramichisc.ca
SUMMARY:Miramichi Folklore Park Thursday Night Kitchen Party
DESCRIPTION:Enjoy local music\, complimentary tea and coffee\, and a light lunch during intermission. Half and half tickets are sold for a chance to win cash. Donations are welcome at the door.
URL:https://greatermiramichisc.ca/event/miramichi-folklore-park-thursday-night-kitchen-party/2027-08-26/
LOCATION:Miramichi Folklore Park\, 46 Memory Lane\, Renous\, New Brunswick\, Canada
CATEGORIES:Community Events,Family,Music
END:VEVENT
BEGIN:VEVENT
DTSTART;TZID=UTC:20270828T090000
DTEND;TZID=UTC:20270828T130000
DTSTAMP:20260419T202053
CREATED:20260414T144937Z
LAST-MODIFIED:20260414T144937Z
UID:10000900-1819443600-1819458000@greatermiramichisc.ca
SUMMARY:Water Street Farmer's Market - Miramichi
DESCRIPTION:Open every Saturday until the Saturday before Christmas & closed January & February. \nThe Water Street Farmers Market is a small-town farmers market located in the city of Miramichi\, and is characterized by its warmth and hospitality.
URL:https://greatermiramichisc.ca/event/water-street-farmers-market-miramichi/2027-08-28/
LOCATION:Water Street Farmers Market\, 1 Ellis St\, Miramichi\, New Brunswick\, Canada
CATEGORIES:Community Events,Family
END:VEVENT
BEGIN:VEVENT
DTSTART;TZID=UTC:20270902T220000
DTEND;TZID=UTC:20270903T010000
DTSTAMP:20260419T202053
CREATED:20260205T123352Z
LAST-MODIFIED:20260205T123352Z
UID:10000459-1819922400-1819933200@greatermiramichisc.ca
SUMMARY:Miramichi Folklore Park Thursday Night Kitchen Party
DESCRIPTION:Enjoy local music\, complimentary tea and coffee\, and a light lunch during intermission. Half and half tickets are sold for a chance to win cash. Donations are welcome at the door.
URL:https://greatermiramichisc.ca/event/miramichi-folklore-park-thursday-night-kitchen-party/2027-09-02/
LOCATION:Miramichi Folklore Park\, 46 Memory Lane\, Renous\, New Brunswick\, Canada
CATEGORIES:Community Events,Family,Music
END:VEVENT
END:VCALENDAR