BEGIN:VCALENDAR
VERSION:2.0
PRODID:-//Greater Miramichi Service Commission - ECPv6.15.20//NONSGML v1.0//EN
CALSCALE:GREGORIAN
METHOD:PUBLISH
X-WR-CALNAME:Greater Miramichi Service Commission
X-ORIGINAL-URL:https://greatermiramichisc.ca
X-WR-CALDESC:Events for Greater Miramichi Service Commission
REFRESH-INTERVAL;VALUE=DURATION:PT1H
X-Robots-Tag:noindex
X-PUBLISHED-TTL:PT1H
BEGIN:VTIMEZONE
TZID:UTC
BEGIN:STANDARD
TZOFFSETFROM:+0000
TZOFFSETTO:+0000
TZNAME:UTC
DTSTART:20260101T000000
END:STANDARD
END:VTIMEZONE
BEGIN:VEVENT
DTSTART;TZID=UTC:20270814T090000
DTEND;TZID=UTC:20270814T130000
DTSTAMP:20260420T033656
CREATED:20260414T144937Z
LAST-MODIFIED:20260414T144937Z
UID:10000898-1818234000-1818248400@greatermiramichisc.ca
SUMMARY:Water Street Farmer's Market - Miramichi
DESCRIPTION:Open every Saturday until the Saturday before Christmas & closed January & February. \nThe Water Street Farmers Market is a small-town farmers market located in the city of Miramichi\, and is characterized by its warmth and hospitality.
URL:https://greatermiramichisc.ca/event/water-street-farmers-market-miramichi/2027-08-14/
LOCATION:Water Street Farmers Market\, 1 Ellis St\, Miramichi\, New Brunswick\, Canada
CATEGORIES:Community Events,Family
END:VEVENT
BEGIN:VEVENT
DTSTART;TZID=UTC:20270819T220000
DTEND;TZID=UTC:20270820T010000
DTSTAMP:20260420T033656
CREATED:20260205T123352Z
LAST-MODIFIED:20260205T123352Z
UID:10000457-1818712800-1818723600@greatermiramichisc.ca
SUMMARY:Miramichi Folklore Park Thursday Night Kitchen Party
DESCRIPTION:Enjoy local music\, complimentary tea and coffee\, and a light lunch during intermission. Half and half tickets are sold for a chance to win cash. Donations are welcome at the door.
URL:https://greatermiramichisc.ca/event/miramichi-folklore-park-thursday-night-kitchen-party/2027-08-19/
LOCATION:Miramichi Folklore Park\, 46 Memory Lane\, Renous\, New Brunswick\, Canada
CATEGORIES:Community Events,Family,Music
END:VEVENT
BEGIN:VEVENT
DTSTART;TZID=UTC:20270821T090000
DTEND;TZID=UTC:20270821T130000
DTSTAMP:20260420T033656
CREATED:20260414T144937Z
LAST-MODIFIED:20260414T144937Z
UID:10000899-1818838800-1818853200@greatermiramichisc.ca
SUMMARY:Water Street Farmer's Market - Miramichi
DESCRIPTION:Open every Saturday until the Saturday before Christmas & closed January & February. \nThe Water Street Farmers Market is a small-town farmers market located in the city of Miramichi\, and is characterized by its warmth and hospitality.
URL:https://greatermiramichisc.ca/event/water-street-farmers-market-miramichi/2027-08-21/
LOCATION:Water Street Farmers Market\, 1 Ellis St\, Miramichi\, New Brunswick\, Canada
CATEGORIES:Community Events,Family
END:VEVENT
BEGIN:VEVENT
DTSTART;TZID=UTC:20270826T220000
DTEND;TZID=UTC:20270827T010000
DTSTAMP:20260420T033656
CREATED:20260205T123352Z
LAST-MODIFIED:20260205T123352Z
UID:10000458-1819317600-1819328400@greatermiramichisc.ca
SUMMARY:Miramichi Folklore Park Thursday Night Kitchen Party
DESCRIPTION:Enjoy local music\, complimentary tea and coffee\, and a light lunch during intermission. Half and half tickets are sold for a chance to win cash. Donations are welcome at the door.
URL:https://greatermiramichisc.ca/event/miramichi-folklore-park-thursday-night-kitchen-party/2027-08-26/
LOCATION:Miramichi Folklore Park\, 46 Memory Lane\, Renous\, New Brunswick\, Canada
CATEGORIES:Community Events,Family,Music
END:VEVENT
BEGIN:VEVENT
DTSTART;TZID=UTC:20270828T090000
DTEND;TZID=UTC:20270828T130000
DTSTAMP:20260420T033656
CREATED:20260414T144937Z
LAST-MODIFIED:20260414T144937Z
UID:10000900-1819443600-1819458000@greatermiramichisc.ca
SUMMARY:Water Street Farmer's Market - Miramichi
DESCRIPTION:Open every Saturday until the Saturday before Christmas & closed January & February. \nThe Water Street Farmers Market is a small-town farmers market located in the city of Miramichi\, and is characterized by its warmth and hospitality.
URL:https://greatermiramichisc.ca/event/water-street-farmers-market-miramichi/2027-08-28/
LOCATION:Water Street Farmers Market\, 1 Ellis St\, Miramichi\, New Brunswick\, Canada
CATEGORIES:Community Events,Family
END:VEVENT
BEGIN:VEVENT
DTSTART;TZID=UTC:20270902T220000
DTEND;TZID=UTC:20270903T010000
DTSTAMP:20260420T033656
CREATED:20260205T123352Z
LAST-MODIFIED:20260205T123352Z
UID:10000459-1819922400-1819933200@greatermiramichisc.ca
SUMMARY:Miramichi Folklore Park Thursday Night Kitchen Party
DESCRIPTION:Enjoy local music\, complimentary tea and coffee\, and a light lunch during intermission. Half and half tickets are sold for a chance to win cash. Donations are welcome at the door.
URL:https://greatermiramichisc.ca/event/miramichi-folklore-park-thursday-night-kitchen-party/2027-09-02/
LOCATION:Miramichi Folklore Park\, 46 Memory Lane\, Renous\, New Brunswick\, Canada
CATEGORIES:Community Events,Family,Music
END:VEVENT
BEGIN:VEVENT
DTSTART;TZID=UTC:20270904T090000
DTEND;TZID=UTC:20270904T130000
DTSTAMP:20260420T033656
CREATED:20260414T144937Z
LAST-MODIFIED:20260414T144937Z
UID:10000901-1820048400-1820062800@greatermiramichisc.ca
SUMMARY:Water Street Farmer's Market - Miramichi
DESCRIPTION:Open every Saturday until the Saturday before Christmas & closed January & February. \nThe Water Street Farmers Market is a small-town farmers market located in the city of Miramichi\, and is characterized by its warmth and hospitality.
URL:https://greatermiramichisc.ca/event/water-street-farmers-market-miramichi/2027-09-04/
LOCATION:Water Street Farmers Market\, 1 Ellis St\, Miramichi\, New Brunswick\, Canada
CATEGORIES:Community Events,Family
END:VEVENT
BEGIN:VEVENT
DTSTART;TZID=UTC:20270909T220000
DTEND;TZID=UTC:20270910T010000
DTSTAMP:20260420T033656
CREATED:20260205T123352Z
LAST-MODIFIED:20260205T123352Z
UID:10000460-1820527200-1820538000@greatermiramichisc.ca
SUMMARY:Miramichi Folklore Park Thursday Night Kitchen Party
DESCRIPTION:Enjoy local music\, complimentary tea and coffee\, and a light lunch during intermission. Half and half tickets are sold for a chance to win cash. Donations are welcome at the door.
URL:https://greatermiramichisc.ca/event/miramichi-folklore-park-thursday-night-kitchen-party/2027-09-09/
LOCATION:Miramichi Folklore Park\, 46 Memory Lane\, Renous\, New Brunswick\, Canada
CATEGORIES:Community Events,Family,Music
END:VEVENT
BEGIN:VEVENT
DTSTART;TZID=UTC:20270911T090000
DTEND;TZID=UTC:20270911T130000
DTSTAMP:20260420T033656
CREATED:20260414T144937Z
LAST-MODIFIED:20260414T144937Z
UID:10000902-1820653200-1820667600@greatermiramichisc.ca
SUMMARY:Water Street Farmer's Market - Miramichi
DESCRIPTION:Open every Saturday until the Saturday before Christmas & closed January & February. \nThe Water Street Farmers Market is a small-town farmers market located in the city of Miramichi\, and is characterized by its warmth and hospitality.
URL:https://greatermiramichisc.ca/event/water-street-farmers-market-miramichi/2027-09-11/
LOCATION:Water Street Farmers Market\, 1 Ellis St\, Miramichi\, New Brunswick\, Canada
CATEGORIES:Community Events,Family
END:VEVENT
BEGIN:VEVENT
DTSTART;TZID=UTC:20270916T220000
DTEND;TZID=UTC:20270917T010000
DTSTAMP:20260420T033656
CREATED:20260205T123352Z
LAST-MODIFIED:20260205T123352Z
UID:10000461-1821132000-1821142800@greatermiramichisc.ca
SUMMARY:Miramichi Folklore Park Thursday Night Kitchen Party
DESCRIPTION:Enjoy local music\, complimentary tea and coffee\, and a light lunch during intermission. Half and half tickets are sold for a chance to win cash. Donations are welcome at the door.
URL:https://greatermiramichisc.ca/event/miramichi-folklore-park-thursday-night-kitchen-party/2027-09-16/
LOCATION:Miramichi Folklore Park\, 46 Memory Lane\, Renous\, New Brunswick\, Canada
CATEGORIES:Community Events,Family,Music
END:VEVENT
BEGIN:VEVENT
DTSTART;TZID=UTC:20270918T090000
DTEND;TZID=UTC:20270918T130000
DTSTAMP:20260420T033656
CREATED:20260414T144937Z
LAST-MODIFIED:20260414T144937Z
UID:10000903-1821258000-1821272400@greatermiramichisc.ca
SUMMARY:Water Street Farmer's Market - Miramichi
DESCRIPTION:Open every Saturday until the Saturday before Christmas & closed January & February. \nThe Water Street Farmers Market is a small-town farmers market located in the city of Miramichi\, and is characterized by its warmth and hospitality.
URL:https://greatermiramichisc.ca/event/water-street-farmers-market-miramichi/2027-09-18/
LOCATION:Water Street Farmers Market\, 1 Ellis St\, Miramichi\, New Brunswick\, Canada
CATEGORIES:Community Events,Family
END:VEVENT
BEGIN:VEVENT
DTSTART;TZID=UTC:20270923T220000
DTEND;TZID=UTC:20270924T010000
DTSTAMP:20260420T033656
CREATED:20260205T123352Z
LAST-MODIFIED:20260205T123352Z
UID:10000462-1821736800-1821747600@greatermiramichisc.ca
SUMMARY:Miramichi Folklore Park Thursday Night Kitchen Party
DESCRIPTION:Enjoy local music\, complimentary tea and coffee\, and a light lunch during intermission. Half and half tickets are sold for a chance to win cash. Donations are welcome at the door.
URL:https://greatermiramichisc.ca/event/miramichi-folklore-park-thursday-night-kitchen-party/2027-09-23/
LOCATION:Miramichi Folklore Park\, 46 Memory Lane\, Renous\, New Brunswick\, Canada
CATEGORIES:Community Events,Family,Music
END:VEVENT
BEGIN:VEVENT
DTSTART;TZID=UTC:20270925T090000
DTEND;TZID=UTC:20270925T130000
DTSTAMP:20260420T033656
CREATED:20260414T144937Z
LAST-MODIFIED:20260414T144937Z
UID:10000904-1821862800-1821877200@greatermiramichisc.ca
SUMMARY:Water Street Farmer's Market - Miramichi
DESCRIPTION:Open every Saturday until the Saturday before Christmas & closed January & February. \nThe Water Street Farmers Market is a small-town farmers market located in the city of Miramichi\, and is characterized by its warmth and hospitality.
URL:https://greatermiramichisc.ca/event/water-street-farmers-market-miramichi/2027-09-25/
LOCATION:Water Street Farmers Market\, 1 Ellis St\, Miramichi\, New Brunswick\, Canada
CATEGORIES:Community Events,Family
END:VEVENT
BEGIN:VEVENT
DTSTART;TZID=UTC:20270930T220000
DTEND;TZID=UTC:20271001T010000
DTSTAMP:20260420T033656
CREATED:20260205T123352Z
LAST-MODIFIED:20260205T123352Z
UID:10000463-1822341600-1822352400@greatermiramichisc.ca
SUMMARY:Miramichi Folklore Park Thursday Night Kitchen Party
DESCRIPTION:Enjoy local music\, complimentary tea and coffee\, and a light lunch during intermission. Half and half tickets are sold for a chance to win cash. Donations are welcome at the door.
URL:https://greatermiramichisc.ca/event/miramichi-folklore-park-thursday-night-kitchen-party/2027-09-30/
LOCATION:Miramichi Folklore Park\, 46 Memory Lane\, Renous\, New Brunswick\, Canada
CATEGORIES:Community Events,Family,Music
END:VEVENT
BEGIN:VEVENT
DTSTART;TZID=UTC:20271002T090000
DTEND;TZID=UTC:20271002T130000
DTSTAMP:20260420T033656
CREATED:20260414T144937Z
LAST-MODIFIED:20260414T144937Z
UID:10000905-1822467600-1822482000@greatermiramichisc.ca
SUMMARY:Water Street Farmer's Market - Miramichi
DESCRIPTION:Open every Saturday until the Saturday before Christmas & closed January & February. \nThe Water Street Farmers Market is a small-town farmers market located in the city of Miramichi\, and is characterized by its warmth and hospitality.
URL:https://greatermiramichisc.ca/event/water-street-farmers-market-miramichi/2027-10-02/
LOCATION:Water Street Farmers Market\, 1 Ellis St\, Miramichi\, New Brunswick\, Canada
CATEGORIES:Community Events,Family
END:VEVENT
BEGIN:VEVENT
DTSTART;TZID=UTC:20271007T220000
DTEND;TZID=UTC:20271008T010000
DTSTAMP:20260420T033656
CREATED:20260205T123352Z
LAST-MODIFIED:20260205T123352Z
UID:10000464-1822946400-1822957200@greatermiramichisc.ca
SUMMARY:Miramichi Folklore Park Thursday Night Kitchen Party
DESCRIPTION:Enjoy local music\, complimentary tea and coffee\, and a light lunch during intermission. Half and half tickets are sold for a chance to win cash. Donations are welcome at the door.
URL:https://greatermiramichisc.ca/event/miramichi-folklore-park-thursday-night-kitchen-party/2027-10-07/
LOCATION:Miramichi Folklore Park\, 46 Memory Lane\, Renous\, New Brunswick\, Canada
CATEGORIES:Community Events,Family,Music
END:VEVENT
BEGIN:VEVENT
DTSTART;TZID=UTC:20271009T090000
DTEND;TZID=UTC:20271009T130000
DTSTAMP:20260420T033656
CREATED:20260414T144937Z
LAST-MODIFIED:20260414T144937Z
UID:10000906-1823072400-1823086800@greatermiramichisc.ca
SUMMARY:Water Street Farmer's Market - Miramichi
DESCRIPTION:Open every Saturday until the Saturday before Christmas & closed January & February. \nThe Water Street Farmers Market is a small-town farmers market located in the city of Miramichi\, and is characterized by its warmth and hospitality.
URL:https://greatermiramichisc.ca/event/water-street-farmers-market-miramichi/2027-10-09/
LOCATION:Water Street Farmers Market\, 1 Ellis St\, Miramichi\, New Brunswick\, Canada
CATEGORIES:Community Events,Family
END:VEVENT
BEGIN:VEVENT
DTSTART;TZID=UTC:20271014T220000
DTEND;TZID=UTC:20271015T010000
DTSTAMP:20260420T033656
CREATED:20260205T123352Z
LAST-MODIFIED:20260205T123352Z
UID:10000465-1823551200-1823562000@greatermiramichisc.ca
SUMMARY:Miramichi Folklore Park Thursday Night Kitchen Party
DESCRIPTION:Enjoy local music\, complimentary tea and coffee\, and a light lunch during intermission. Half and half tickets are sold for a chance to win cash. Donations are welcome at the door.
URL:https://greatermiramichisc.ca/event/miramichi-folklore-park-thursday-night-kitchen-party/2027-10-14/
LOCATION:Miramichi Folklore Park\, 46 Memory Lane\, Renous\, New Brunswick\, Canada
CATEGORIES:Community Events,Family,Music
END:VEVENT
BEGIN:VEVENT
DTSTART;TZID=UTC:20271016T090000
DTEND;TZID=UTC:20271016T130000
DTSTAMP:20260420T033656
CREATED:20260414T144937Z
LAST-MODIFIED:20260414T144937Z
UID:10000907-1823677200-1823691600@greatermiramichisc.ca
SUMMARY:Water Street Farmer's Market - Miramichi
DESCRIPTION:Open every Saturday until the Saturday before Christmas & closed January & February. \nThe Water Street Farmers Market is a small-town farmers market located in the city of Miramichi\, and is characterized by its warmth and hospitality.
URL:https://greatermiramichisc.ca/event/water-street-farmers-market-miramichi/2027-10-16/
LOCATION:Water Street Farmers Market\, 1 Ellis St\, Miramichi\, New Brunswick\, Canada
CATEGORIES:Community Events,Family
END:VEVENT
BEGIN:VEVENT
DTSTART;TZID=UTC:20271021T220000
DTEND;TZID=UTC:20271022T010000
DTSTAMP:20260420T033656
CREATED:20260205T123352Z
LAST-MODIFIED:20260205T123352Z
UID:10000466-1824156000-1824166800@greatermiramichisc.ca
SUMMARY:Miramichi Folklore Park Thursday Night Kitchen Party
DESCRIPTION:Enjoy local music\, complimentary tea and coffee\, and a light lunch during intermission. Half and half tickets are sold for a chance to win cash. Donations are welcome at the door.
URL:https://greatermiramichisc.ca/event/miramichi-folklore-park-thursday-night-kitchen-party/2027-10-21/
LOCATION:Miramichi Folklore Park\, 46 Memory Lane\, Renous\, New Brunswick\, Canada
CATEGORIES:Community Events,Family,Music
END:VEVENT
BEGIN:VEVENT
DTSTART;TZID=UTC:20271023T090000
DTEND;TZID=UTC:20271023T130000
DTSTAMP:20260420T033656
CREATED:20260414T144937Z
LAST-MODIFIED:20260414T144937Z
UID:10000908-1824282000-1824296400@greatermiramichisc.ca
SUMMARY:Water Street Farmer's Market - Miramichi
DESCRIPTION:Open every Saturday until the Saturday before Christmas & closed January & February. \nThe Water Street Farmers Market is a small-town farmers market located in the city of Miramichi\, and is characterized by its warmth and hospitality.
URL:https://greatermiramichisc.ca/event/water-street-farmers-market-miramichi/2027-10-23/
LOCATION:Water Street Farmers Market\, 1 Ellis St\, Miramichi\, New Brunswick\, Canada
CATEGORIES:Community Events,Family
END:VEVENT
BEGIN:VEVENT
DTSTART;TZID=UTC:20271028T220000
DTEND;TZID=UTC:20271029T010000
DTSTAMP:20260420T033656
CREATED:20260205T123352Z
LAST-MODIFIED:20260205T123352Z
UID:10000467-1824760800-1824771600@greatermiramichisc.ca
SUMMARY:Miramichi Folklore Park Thursday Night Kitchen Party
DESCRIPTION:Enjoy local music\, complimentary tea and coffee\, and a light lunch during intermission. Half and half tickets are sold for a chance to win cash. Donations are welcome at the door.
URL:https://greatermiramichisc.ca/event/miramichi-folklore-park-thursday-night-kitchen-party/2027-10-28/
LOCATION:Miramichi Folklore Park\, 46 Memory Lane\, Renous\, New Brunswick\, Canada
CATEGORIES:Community Events,Family,Music
END:VEVENT
BEGIN:VEVENT
DTSTART;TZID=UTC:20271030T090000
DTEND;TZID=UTC:20271030T130000
DTSTAMP:20260420T033656
CREATED:20260414T144937Z
LAST-MODIFIED:20260414T144937Z
UID:10000909-1824886800-1824901200@greatermiramichisc.ca
SUMMARY:Water Street Farmer's Market - Miramichi
DESCRIPTION:Open every Saturday until the Saturday before Christmas & closed January & February. \nThe Water Street Farmers Market is a small-town farmers market located in the city of Miramichi\, and is characterized by its warmth and hospitality.
URL:https://greatermiramichisc.ca/event/water-street-farmers-market-miramichi/2027-10-30/
LOCATION:Water Street Farmers Market\, 1 Ellis St\, Miramichi\, New Brunswick\, Canada
CATEGORIES:Community Events,Family
END:VEVENT
BEGIN:VEVENT
DTSTART;TZID=UTC:20271104T220000
DTEND;TZID=UTC:20271105T010000
DTSTAMP:20260420T033656
CREATED:20260205T123352Z
LAST-MODIFIED:20260205T123352Z
UID:10000468-1825365600-1825376400@greatermiramichisc.ca
SUMMARY:Miramichi Folklore Park Thursday Night Kitchen Party
DESCRIPTION:Enjoy local music\, complimentary tea and coffee\, and a light lunch during intermission. Half and half tickets are sold for a chance to win cash. Donations are welcome at the door.
URL:https://greatermiramichisc.ca/event/miramichi-folklore-park-thursday-night-kitchen-party/2027-11-04/
LOCATION:Miramichi Folklore Park\, 46 Memory Lane\, Renous\, New Brunswick\, Canada
CATEGORIES:Community Events,Family,Music
END:VEVENT
BEGIN:VEVENT
DTSTART;TZID=UTC:20271106T090000
DTEND;TZID=UTC:20271106T130000
DTSTAMP:20260420T033656
CREATED:20260414T144937Z
LAST-MODIFIED:20260414T144937Z
UID:10000910-1825491600-1825506000@greatermiramichisc.ca
SUMMARY:Water Street Farmer's Market - Miramichi
DESCRIPTION:Open every Saturday until the Saturday before Christmas & closed January & February. \nThe Water Street Farmers Market is a small-town farmers market located in the city of Miramichi\, and is characterized by its warmth and hospitality.
URL:https://greatermiramichisc.ca/event/water-street-farmers-market-miramichi/2027-11-06/
LOCATION:Water Street Farmers Market\, 1 Ellis St\, Miramichi\, New Brunswick\, Canada
CATEGORIES:Community Events,Family
END:VEVENT
BEGIN:VEVENT
DTSTART;TZID=UTC:20271111T230000
DTEND;TZID=UTC:20271112T020000
DTSTAMP:20260420T033656
CREATED:20260205T123352Z
LAST-MODIFIED:20260205T123352Z
UID:10000469-1825974000-1825984800@greatermiramichisc.ca
SUMMARY:Miramichi Folklore Park Thursday Night Kitchen Party
DESCRIPTION:Enjoy local music\, complimentary tea and coffee\, and a light lunch during intermission. Half and half tickets are sold for a chance to win cash. Donations are welcome at the door.
URL:https://greatermiramichisc.ca/event/miramichi-folklore-park-thursday-night-kitchen-party/2027-11-11/
LOCATION:Miramichi Folklore Park\, 46 Memory Lane\, Renous\, New Brunswick\, Canada
CATEGORIES:Community Events,Family,Music
END:VEVENT
BEGIN:VEVENT
DTSTART;TZID=UTC:20271113T090000
DTEND;TZID=UTC:20271113T130000
DTSTAMP:20260420T033656
CREATED:20260414T144937Z
LAST-MODIFIED:20260414T144937Z
UID:10000911-1826096400-1826110800@greatermiramichisc.ca
SUMMARY:Water Street Farmer's Market - Miramichi
DESCRIPTION:Open every Saturday until the Saturday before Christmas & closed January & February. \nThe Water Street Farmers Market is a small-town farmers market located in the city of Miramichi\, and is characterized by its warmth and hospitality.
URL:https://greatermiramichisc.ca/event/water-street-farmers-market-miramichi/2027-11-13/
LOCATION:Water Street Farmers Market\, 1 Ellis St\, Miramichi\, New Brunswick\, Canada
CATEGORIES:Community Events,Family
END:VEVENT
BEGIN:VEVENT
DTSTART;TZID=UTC:20271118T230000
DTEND;TZID=UTC:20271119T020000
DTSTAMP:20260420T033656
CREATED:20260205T123352Z
LAST-MODIFIED:20260205T123352Z
UID:10000470-1826578800-1826589600@greatermiramichisc.ca
SUMMARY:Miramichi Folklore Park Thursday Night Kitchen Party
DESCRIPTION:Enjoy local music\, complimentary tea and coffee\, and a light lunch during intermission. Half and half tickets are sold for a chance to win cash. Donations are welcome at the door.
URL:https://greatermiramichisc.ca/event/miramichi-folklore-park-thursday-night-kitchen-party/2027-11-18/
LOCATION:Miramichi Folklore Park\, 46 Memory Lane\, Renous\, New Brunswick\, Canada
CATEGORIES:Community Events,Family,Music
END:VEVENT
BEGIN:VEVENT
DTSTART;TZID=UTC:20271120T090000
DTEND;TZID=UTC:20271120T130000
DTSTAMP:20260420T033656
CREATED:20260414T144937Z
LAST-MODIFIED:20260414T144937Z
UID:10000912-1826701200-1826715600@greatermiramichisc.ca
SUMMARY:Water Street Farmer's Market - Miramichi
DESCRIPTION:Open every Saturday until the Saturday before Christmas & closed January & February. \nThe Water Street Farmers Market is a small-town farmers market located in the city of Miramichi\, and is characterized by its warmth and hospitality.
URL:https://greatermiramichisc.ca/event/water-street-farmers-market-miramichi/2027-11-20/
LOCATION:Water Street Farmers Market\, 1 Ellis St\, Miramichi\, New Brunswick\, Canada
CATEGORIES:Community Events,Family
END:VEVENT
BEGIN:VEVENT
DTSTART;TZID=UTC:20271125T230000
DTEND;TZID=UTC:20271126T020000
DTSTAMP:20260420T033656
CREATED:20260205T123352Z
LAST-MODIFIED:20260205T123352Z
UID:10000471-1827183600-1827194400@greatermiramichisc.ca
SUMMARY:Miramichi Folklore Park Thursday Night Kitchen Party
DESCRIPTION:Enjoy local music\, complimentary tea and coffee\, and a light lunch during intermission. Half and half tickets are sold for a chance to win cash. Donations are welcome at the door.
URL:https://greatermiramichisc.ca/event/miramichi-folklore-park-thursday-night-kitchen-party/2027-11-25/
LOCATION:Miramichi Folklore Park\, 46 Memory Lane\, Renous\, New Brunswick\, Canada
CATEGORIES:Community Events,Family,Music
END:VEVENT
END:VCALENDAR