BEGIN:VCALENDAR
VERSION:2.0
PRODID:-//Greater Miramichi Service Commission - ECPv6.15.20//NONSGML v1.0//EN
CALSCALE:GREGORIAN
METHOD:PUBLISH
X-WR-CALNAME:Greater Miramichi Service Commission
X-ORIGINAL-URL:https://greatermiramichisc.ca
X-WR-CALDESC:Events for Greater Miramichi Service Commission
REFRESH-INTERVAL;VALUE=DURATION:PT1H
X-Robots-Tag:noindex
X-PUBLISHED-TTL:PT1H
BEGIN:VTIMEZONE
TZID:UTC
BEGIN:STANDARD
TZOFFSETFROM:+0000
TZOFFSETTO:+0000
TZNAME:UTC
DTSTART:20260101T000000
END:STANDARD
END:VTIMEZONE
BEGIN:VEVENT
DTSTART;TZID=UTC:20271218T090000
DTEND;TZID=UTC:20271218T130000
DTSTAMP:20260420T072301
CREATED:20260414T144937Z
LAST-MODIFIED:20260414T144937Z
UID:10000916-1829120400-1829134800@greatermiramichisc.ca
SUMMARY:Water Street Farmer's Market - Miramichi
DESCRIPTION:Open every Saturday until the Saturday before Christmas & closed January & February. \nThe Water Street Farmers Market is a small-town farmers market located in the city of Miramichi\, and is characterized by its warmth and hospitality.
URL:https://greatermiramichisc.ca/event/water-street-farmers-market-miramichi/2027-12-18/
LOCATION:Water Street Farmers Market\, 1 Ellis St\, Miramichi\, New Brunswick\, Canada
CATEGORIES:Community Events,Family
END:VEVENT
END:VCALENDAR